BEGIN:VCALENDAR
VERSION:2.0
PRODID:-//hacksw/handcal//NONSGML v1.0//EN
BEGIN:VEVENT
UID:3459f3ea644ed59a8e927585e95f3656@enjoymountainhome.com
DTSTAMP:20260420T091330Z
DTSTART:20260312T000000Z
DTEND:20260312T000000Z
SUMMARY:Growing Through Grief Support Group
END:VEVENT
END:VCALENDAR