BEGIN:VCALENDAR
VERSION:2.0
PRODID:-//hacksw/handcal//NONSGML v1.0//EN
BEGIN:VEVENT
UID:717de337f18c7dd9039e374e345ded9c@enjoymountainhome.com
DTSTAMP:20260421T080923Z
DTSTART:20260317T000000Z
DTEND:20260317T000000Z
SUMMARY:Arts 'R Us - Pable Picasso
END:VEVENT
END:VCALENDAR