BEGIN:VCALENDAR
VERSION:2.0
PRODID:-//hacksw/handcal//NONSGML v1.0//EN
BEGIN:VEVENT
UID:31a163de123c7889d7cf87e05c2a176a@enjoymountainhome.com
DTSTAMP:20260421T082107Z
DTSTART:20260327T000000Z
DTEND:20260327T000000Z
SUMMARY:Make It! Shrinky Dink Fun
END:VEVENT
END:VCALENDAR