BEGIN:VCALENDAR
VERSION:2.0
PRODID:-//hacksw/handcal//NONSGML v1.0//EN
BEGIN:VEVENT
UID:fe3755f48b5a716db7ef2d8d973c229c@enjoymountainhome.com
DTSTAMP:20260421T101139Z
DTSTART:20260424T000000Z
DTEND:20260424T000000Z
SUMMARY:PLAY ON
END:VEVENT
END:VCALENDAR