BEGIN:VCALENDAR
VERSION:2.0
PRODID:-//hacksw/handcal//NONSGML v1.0//EN
BEGIN:VEVENT
UID:68a7ce7e4dbefbab83f0d2b5ad7d7645@enjoymountainhome.com
DTSTAMP:20260421T124248Z
DTSTART:20260425T000000Z
DTEND:20260425T000000Z
SUMMARY:PLAY ON
END:VEVENT
END:VCALENDAR