BEGIN:VCALENDAR
VERSION:2.0
PRODID:-//hacksw/handcal//NONSGML v1.0//EN
BEGIN:VEVENT
UID:f733e12f8dc634048e2c4a4e5f3df5b4@enjoymountainhome.com
DTSTAMP:20260421T130218Z
DTSTART:20260425T000000Z
DTEND:20260425T000000Z
SUMMARY:Recycle Regatta
END:VEVENT
END:VCALENDAR