BEGIN:VCALENDAR
VERSION:2.0
PRODID:-//hacksw/handcal//NONSGML v1.0//EN
BEGIN:VEVENT
UID:9a2a46adf84a025b22bd2859ffb20480@enjoymountainhome.com
DTSTAMP:20260421T130529Z
DTSTART:20260429T000000Z
DTEND:20260429T000000Z
SUMMARY:Color Me Calm
END:VEVENT
END:VCALENDAR