BEGIN:VCALENDAR
VERSION:2.0
PRODID:-//hacksw/handcal//NONSGML v1.0//EN
BEGIN:VEVENT
UID:ff4af50866d0669f3118866364fa0670@enjoymountainhome.com
DTSTAMP:20260423T130236Z
DTSTART:20260429T000000Z
DTEND:20260429T000000Z
SUMMARY:Preschool Story Time
END:VEVENT
END:VCALENDAR