BEGIN:VCALENDAR
VERSION:2.0
PRODID:-//hacksw/handcal//NONSGML v1.0//EN
BEGIN:VEVENT
UID:5e3d33ef869fef019ad9278ba229eb1d@enjoymountainhome.com
DTSTAMP:20260422T192002Z
DTSTART:20260427T000000Z
DTEND:20260427T000000Z
SUMMARY:Babies & Books Story Time
END:VEVENT
END:VCALENDAR