BEGIN:VCALENDAR
VERSION:2.0
PRODID:-//hacksw/handcal//NONSGML v1.0//EN
BEGIN:VEVENT
UID:4c63fcb03d81fb82fee9ecbf82e71d73@enjoymountainhome.com
DTSTAMP:20260421T130211Z
DTSTART:20260425T000000Z
DTEND:20260425T000000Z
SUMMARY:12th Annual Baxter County Plant Swap
END:VEVENT
END:VCALENDAR