BEGIN:VCALENDAR
VERSION:2.0
PRODID:-//hacksw/handcal//NONSGML v1.0//EN
BEGIN:VEVENT
UID:3f5bed792087e38c99c25f5753113dda@enjoymountainhome.com
DTSTAMP:20260423T125255Z
DTSTART:20260425T000000Z
DTEND:20260425T000000Z
SUMMARY:Baxter County Master Gardeners Plant Sale
END:VEVENT
END:VCALENDAR