BEGIN:VCALENDAR
VERSION:2.0
PRODID:-//hacksw/handcal//NONSGML v1.0//EN
BEGIN:VEVENT
UID:13e53fd8017e269bd64af35f47d6fbc9@enjoymountainhome.com
DTSTAMP:20260423T125423Z
DTSTART:20260424T000000Z
DTEND:20260424T000000Z
SUMMARY:Dance Party at the Post
END:VEVENT
END:VCALENDAR