BEGIN:VCALENDAR
VERSION:2.0
PRODID:-//hacksw/handcal//NONSGML v1.0//EN
BEGIN:VEVENT
UID:af60c6401c46fc3975f113f34ed6ef25@enjoymountainhome.com
DTSTAMP:20260425T010026Z
DTSTART:20260430T000000Z
DTEND:20260430T000000Z
SUMMARY:Birthday Bash Open House
END:VEVENT
END:VCALENDAR