BEGIN:VCALENDAR
VERSION:2.0
PRODID:-//hacksw/handcal//NONSGML v1.0//EN
BEGIN:VEVENT
UID:3283ff610f76d18c417ab27c4c3fb5fa@enjoymountainhome.com
DTSTAMP:20260425T010103Z
DTSTART:20260428T000000Z
DTEND:20260428T000000Z
SUMMARY:Broke Axe Tuesday
END:VEVENT
END:VCALENDAR