BEGIN:VCALENDAR
VERSION:2.0
PRODID:-//hacksw/handcal//NONSGML v1.0//EN
BEGIN:VEVENT
UID:48b1aad876caa4feeef10f86c411f9df@enjoymountainhome.com
DTSTAMP:20260425T005639Z
DTSTART:20260424T000000Z
DTEND:20260424T000000Z
SUMMARY:Walleye Fish Fry
END:VEVENT
END:VCALENDAR