BEGIN:VCALENDAR
VERSION:2.0
PRODID:-//hacksw/handcal//NONSGML v1.0//EN
BEGIN:VEVENT
UID:e963432e3bd40575c1752f18dc61d086@enjoymountainhome.com
DTSTAMP:20260421T130352Z
DTSTART:20260429T000000Z
DTEND:20260429T000000Z
SUMMARY:Todd Oliver & Irving the Talking Dog 
END:VEVENT
END:VCALENDAR