BEGIN:VCALENDAR
VERSION:2.0
PRODID:-//hacksw/handcal//NONSGML v1.0//EN
BEGIN:VEVENT
UID:23be571abcd60e898cc4ae23f7966cbd@enjoymountainhome.com
DTSTAMP:20260421T125658Z
DTSTART:20260426T000000Z
DTEND:20260426T000000Z
SUMMARY:PLAY ON
END:VEVENT
END:VCALENDAR