BEGIN:VCALENDAR
VERSION:2.0
PRODID:-//hacksw/handcal//NONSGML v1.0//EN
BEGIN:VEVENT
UID:78deafda57ff9defd3df9900f2f75932@enjoymountainhome.com
DTSTAMP:20260420T130448Z
DTSTART:20260321T000000Z
DTEND:20260321T000000Z
SUMMARY:Yard Sale to Benefit the Food Bank
END:VEVENT
END:VCALENDAR