BEGIN:VCALENDAR
VERSION:2.0
PRODID:-//hacksw/handcal//NONSGML v1.0//EN
BEGIN:VEVENT
UID:07f2cce7f177ca8f6c74f808112969fa@enjoymountainhome.com
DTSTAMP:20260422T192628Z
DTSTART:20260422T000000Z
DTEND:20260422T000000Z
SUMMARY:Color Me Calm
END:VEVENT
END:VCALENDAR