BEGIN:VCALENDAR
VERSION:2.0
PRODID:-//hacksw/handcal//NONSGML v1.0//EN
BEGIN:VEVENT
UID:a75a1d33b3d63f0e2e093b5439709ef6@enjoymountainhome.com
DTSTAMP:20260421T130029Z
DTSTART:20260422T000000Z
DTEND:20260422T000000Z
SUMMARY:Preschool Story Time
END:VEVENT
END:VCALENDAR