BEGIN:VCALENDAR
VERSION:2.0
PRODID:-//hacksw/handcal//NONSGML v1.0//EN
BEGIN:VEVENT
UID:d8d8b8c1081e8f99f30400629067b71f@enjoymountainhome.com
DTSTAMP:20260422T192350Z
DTSTART:20260427T000000Z
DTEND:20260427T000000Z
SUMMARY:Yoga for Adults
END:VEVENT
END:VCALENDAR