BEGIN:VCALENDAR
VERSION:2.0
PRODID:-//hacksw/handcal//NONSGML v1.0//EN
BEGIN:VEVENT
UID:bc74ec50811b7a8d0ab0564fdfa0c0f5@enjoymountainhome.com
DTSTAMP:20260422T191641Z
DTSTART:20260429T000000Z
DTEND:20260429T000000Z
SUMMARY:Yoga for Adults
END:VEVENT
END:VCALENDAR