BEGIN:VCALENDAR
VERSION:2.0
PRODID:-//hacksw/handcal//NONSGML v1.0//EN
BEGIN:VEVENT
UID:f3699521d4a88fcb6749d18be803edc2@enjoymountainhome.com
DTSTAMP:20260421T124118Z
DTSTART:20260421T000000Z
DTEND:20260421T000000Z
SUMMARY:All Booked: Staff Picks
END:VEVENT
END:VCALENDAR