BEGIN:VCALENDAR
VERSION:2.0
PRODID:-//hacksw/handcal//NONSGML v1.0//EN
BEGIN:VEVENT
UID:b68a4e3e126319b402ae9a872a82104c@enjoymountainhome.com
DTSTAMP:20260421T130536Z
DTSTART:20260420T000000Z
DTEND:20260424T000000Z
SUMMARY:National Library Week
END:VEVENT
END:VCALENDAR