BEGIN:VCALENDAR
VERSION:2.0
PRODID:-//hacksw/handcal//NONSGML v1.0//EN
BEGIN:VEVENT
UID:7220fb6fa10209982348b6ead0a28d20@enjoymountainhome.com
DTSTAMP:20260422T192431Z
DTSTART:20260423T000000Z
DTEND:20260423T000000Z
SUMMARY:Neuroscience of Pilates for Women
END:VEVENT
END:VCALENDAR