BEGIN:VCALENDAR
VERSION:2.0
PRODID:-//hacksw/handcal//NONSGML v1.0//EN
BEGIN:VEVENT
UID:28f4d2d14c1f3a29452913e3e765e222@enjoymountainhome.com
DTSTAMP:20260424T041503Z
DTSTART:20260429T000000Z
DTEND:20260429T000000Z
SUMMARY:VFW Bingo Night
END:VEVENT
END:VCALENDAR