BEGIN:VCALENDAR
VERSION:2.0
PRODID:-//hacksw/handcal//NONSGML v1.0//EN
BEGIN:VEVENT
UID:6a056bf2e39c27ecad251499d4682db8@enjoymountainhome.com
DTSTAMP:20260425T010659Z
DTSTART:20260430T000000Z
DTEND:20260430T000000Z
SUMMARY:Ladies Pool & Happy Hour
END:VEVENT
END:VCALENDAR