BEGIN:VCALENDAR
VERSION:2.0
PRODID:-//hacksw/handcal//NONSGML v1.0//EN
BEGIN:VEVENT
UID:7936e872e00a4128a7d487c52025210d@enjoymountainhome.com
DTSTAMP:20260424T040954Z
DTSTART:20260424T000000Z
DTEND:20260424T000000Z
SUMMARY:VFW Friday Night Pool Tournament
END:VEVENT
END:VCALENDAR